BEGIN:VCALENDAR
VERSION:2.0
PRODID:-//Squarespace Inc/Squarespace 6//v6//EN
BEGIN:VEVENT
UID:5b9585392b6a28d4f739c679@squarespace.com
DTSTAMP:20190620T055214Z
DTSTART:20180930T233000Z
DTEND:20181001T010000Z
SUMMARY:Great Escape Books
GEO:-38.46484;144.099396
LOCATION:greatescapebooks\, 75 Great Ocean Road\, Aireys Inlet\, VIC\, 3231
 \, Australia
END:VEVENT
END:VCALENDAR
