BEGIN:VCALENDAR
VERSION:2.0
PRODID:-//Squarespace Inc/Squarespace 6//v6//EN
BEGIN:VEVENT
UID:5d0b15803df5950001a901bc@squarespace.com
DTSTAMP:20190821T235928Z
DTSTART:20190816T170000Z
DTEND:20190816T190000Z
SUMMARY:EVENTS LISMORE | AUTHOR EVENT
GEO:-28.810075;153.278772
LOCATION:Lismore Library\, 110 Magellan Street\, Lismore\, NSW\, 2480\, Aus
 tralia
END:VEVENT
END:VCALENDAR
