BEGIN:VCALENDAR
VERSION:2.0
PRODID:-//Squarespace Inc/Squarespace 6//v6//EN
BEGIN:VEVENT
UID:5cce40240d9297770eafb863@squarespace.com
DTSTAMP:20190821T235948Z
DTSTART:20190619T163000Z
DTEND:20190619T183000Z
SUMMARY: Inverloch Library event
GEO:-38.633191;145.727713
LOCATION:Inverloch Library\, 16 Abeckett Street\, Inverloch\, VIC\, 3996\, 
 Australia
END:VEVENT
END:VCALENDAR
