BEGIN:VCALENDAR
VERSION:2.0
PRODID:-//Squarespace Inc/Squarespace 6//v6//EN
BEGIN:VEVENT
UID:5ca66bd14785d324f09ba3aa@squarespace.com
DTSTAMP:20190822T000005Z
DTSTART:20190507T223000Z
DTEND:20190508T000000Z
SUMMARY:JEFFREYS BOOKS—Literary Evening
GEO:-37.861014;145.02866
LOCATION:Jeffreys Books\, 140 Glenferrie Road\, Malvern\, VIC\, 3144\, Aust
 ralia
END:VEVENT
END:VCALENDAR
