BEGIN:VCALENDAR
VERSION:2.0
PRODID:-//Squarespace Inc/Squarespace 6//v6//EN
BEGIN:VEVENT
UID:5d5ca3d5e9ed8d00017892e2@squarespace.com
DTSTAMP:20190821T235903Z
DTSTART:20191015T213000Z
DTEND:20191015T230000Z
SUMMARY:Meet the Author: Sarah Myles
GEO:-35.109873;147.370518
LOCATION:Wagga Wagga City Library\, Cnr Baylis & Morrow Street\, Wagga Wagg
 a 2650\, Australia
END:VEVENT
END:VCALENDAR
