BEGIN:VCALENDAR
VERSION:2.0
PRODID:-//Squarespace Inc/Squarespace 6//v6//EN
BEGIN:VEVENT
UID:5be522cd0e2e727783b03f76@squarespace.com
DTSTAMP:20190822T001948Z
DTSTART:20181128T233000Z
DTEND:20181129T010000Z
SUMMARY:Warrnambool Library
GEO:40.720756;-74.000761
LOCATION:The Whalers Hotel\, 53 Liebig St\, Warrnambool VIC 3280
END:VEVENT
END:VCALENDAR
